Workbook

Sheet 道路(一类明细)
A1: 工 程 量 清 单
A2: 工程名称：门头沟区普通公路日常养护作业第2标段
A3: 清单 道路日常养护（一类明细）
A4: 类别 | B4: 项目编号 | C4: 项目名称 | D4: 单位 | E4: 数量 | F4: 单价 | G4: 合价
A5: 路基工程 | B5: 202-04-1 | C5: 人工标准整修路肩 | D5: ㎡ | E5: 151896 | F5: /
B6: 202-04-2 | C6: 人工标准整修边坡及边沟 | D6: ㎡ | E6: 208952 | F6: /
B7: 202-04-3 | C7: 路肩割草 | D7: ㎡ | E7: 151896 | F7: /
B8: 202-04-4 | C8: 边坡及边沟割草 | D8: ㎡ | E8: 208952 | F8: /
A9: 路面工程 | B9: 206-04-1 | C9: 穿建成区公路一类线路 | G9: /
B10: 206-04-2 | C10: 非建成区路线 | G10: /
B11: a | C11: 一类路线 | D11: ㎡ | E11: 231000 | F11: /
B12: b | C12: 二类路线 | D12: ㎡ | E12: 321905 | F12: /
B13: c | C13: 三类路线 | D13: ㎡ | E13: 359316 | F13: /
A14: 排水工程 | B14: 206-04-7 | C14: 排水系统清理疏通 | G14: /
B15: a | C15: 雨水口清理 | D15: 个（单箅或双箅） | E15: 1 | F15: /
B16: d | C16: 盖板沟 | D16: km | E16: 0.427 | F16: /
B17: g | C17: 主涵 | D17: km | E17: 1.7445 | F17: /
A18: 公路附属 设施 | B18: 303-01-33 | C18: 公里碑、百米桩等油饰 | G18: /
B19: a | C19: 公里碑 | D19: 块 | E19: 137 | F19: /
B20: b | C20: 百米桩 | D20: 块 | E20: 1233 | F20: /
B21: d | C21: 示警桩 | D21: 个 | E21: 895 | F21: /
A22: 其他 | B22: 605-05-1 | C22: 数据采集（人工调查） | D22: km | E22: 136.742 | F22: /
B23: 605-05-3 | C23: 道班服务站运维 | G23: /
B24: a | C24: 一类 | D24: 座/处 | E24: 1 | F24: /
B25: b | C25: 二类 | D25: 座/处 | E25: 1 | F25: /
B26: 605-05-5 | C26: 应急出动 | G26: /
B27: a | C27: 铲冰除雪 | D27: 项 | E27: 1 | F27: /
B28: 605-05-8 | C28: 应急保障备勤 | D28: 项 | E28: 1 | F28: /
B29: 605-05-9 | C29: 公路巡视 | D29: 项 | E29: 1 | F29: /
B30: 605-05-10 | C30: 地灾值守 | D30: 项 | E30: 1 | F30: /

Sheet 道路(一类汇总)
A1: 工 程 量 清 单
A2: 工程名称：门头沟区普通公路日常养护作业第2标段
A3: 清单 道路日常养护（一类项目）
A4: 项目编号 | B4: 项目名称 | C4: 单位 | D4: 数量 | E4: 合价
A5: 1 | B5: 人工标准整修路肩 | C5: 总额 | D5: 1 | E5: ='道路(一类明细)'!G5 -> 0
A6: 2 | B6: 人工标准整修边坡及边沟 | C6: 总额 | D6: 1 | E6: ='道路(一类明细)'!G6 -> 0
A7: 3 | B7: 路肩割草 | C7: 总额 | D7: 1 | E7: ='道路(一类明细)'!G7 -> 0
A8: 4 | B8: 边坡及边沟割草 | C8: 总额 | D8: 1 | E8: ='道路(一类明细)'!G8 -> 0
A9: 5 | B9: 路面保洁 | C9: 总额 | D9: 1 | E9: =ROUND(SUM('道路(一类明细)'!G10:G13),0) -> 0
A10: 7 | B10: 排水系统清理疏通 | C10: 总额 | D10: 1 | E10: =ROUND(SUM('道路(一类明细)'!G15:G17),0) -> 0
A11: 8 | B11: 公里碑、百米桩等油饰 | C11: 总额 | D11: 1 | E11: =ROUND(SUM('道路(一类明细)'!G18:G21),0) -> 0
A12: 9 | B12: 数据采集（人工调查） | C12: 总额 | D12: 1 | E12: ='道路(一类明细)'!G22 -> 0
A13: 10 | B13: 道班服务站运维 | C13: 总额 | D13: 1 | E13: ='道路(一类明细)'!G24+'道路(一类明细)'!G25 -> 0
A14: 11 | B14: 应急出动（铲冰除雪） | C14: 总额 | D14: 1 | E14: ='道路(一类明细)'!G27 -> 0
A15: 12 | B15: 应急保障备勤 | C15: 总额 | D15: 1 | E15: ='道路(一类明细)'!G28 -> 0
A16: 13 | B16: 公路巡视 | C16: 总额 | D16: 1 | E16: ='道路(一类明细)'!G29 -> 0
A17: 14 | B17: 地灾值守 | C17: 总额 | D17: 1 | E17: ='道路(一类明细)'!G30 -> 0
A18: 道路日常养护（一类项目）清单合计 人民币（元） | E18: =ROUND(SUM(E5:E17),0) -> 0

Sheet 道路(二类)
A1: 工 程 量 清 单
A2: 工程名称：门头沟区普通公路日常养护作业第2标段
A3: 清单 道路日常养护（二类项目）
A4: 项目类别 | B4: 项目编号 | C4: 项目名称 | D4: 单位 | E4: 数量 | F4: 单价 | G4: 合价
A5: 路基日常养护 | B5: 202-04-5 | C5: 钢筋除锈 | D5: ㎡ | E5: 1 | G5: =IF(E5="","",ROUND(E5*F5,0)) -> 0
B6: 202-04-6 | C6: 更换雨水篦子 | G6: =IF(E6="","",ROUND(E6*F6,0))
B7: a | C7: 更换水篦子（混凝土） | D7: 套 | E7: 1 | G7: =IF(E7="","",ROUND(E7*F7,0)) -> 0
B8: b | C8: 更换水篦子（铸铁） | D8: 套 | E8: 5 | G8: =IF(E8="","",ROUND(E8*F8,0)) -> 0
B9: 202-04-7 | C9: 雨水井盖（五防加重） | D9: 套 | E9: 4 | G9: =IF(E9="","",ROUND(E9*F9,0)) -> 0
B10: 202-04-8 | C10: 检查井加固（普通混凝土） | D10: 座 | E10: 1 | G10: =IF(E10="","",ROUND(E10*F10,0)) -> 0
B11: 202-04-9 | C11: 检查井加固（超早强黑色特种灌浆料） | D11: 座 | E11: 9 | G11: =IF(E11="","",ROUND(E11*F11,0)) -> 0
B12: 202-04-10 | C12: 新建雨水检查井（PS06-Y02y） | D12: 座 | E12: 1 | G12: =IF(E12="","",ROUND(E12*F12,0)) -> 0
B13: 202-04-12 | C13: 安装骑沿井 | D13: 座 | E13: 2 | G13: =IF(E13="","",ROUND(E13*F13,0)) -> 0
B14: 202-04-13 | C14: 新建砌块检查井（详参图集06MS201-4-4/13/15/16/17/24） | D14: 座 | E14: 1 | G14: =IF(E14="","",ROUND(E14*F14,0)) -> 0
B15: 202-04-14 | C15: 新建立雨水箅子 | D15: 个 | E15: 4 | G15: =IF(E15="","",ROUND(E15*F15,0)) -> 0
B16: 202-04-15 | C16: 处理积水 | D16: m³ | E16: 1 | G16: =IF(E16="","",ROUND(E16*F16,0)) -> 0
B17: 202-04-16 | C17: 雨水口加固（超早强混凝土） | D17: 座 | E17: 1 | G17: =IF(E17="","",ROUND(E17*F17,0)) -> 0
B18: 203-02-1 | C18: 清理垃圾、砂石、建筑渣土等 | D18: m³ | E18: 213.15 | G18: =IF(E18="","",ROUND(E18*F18,0)) -> 0
... B24: 203-04-1 | C24: 天然砂砾回填 | D24: m³ | E24: 280.71 | G24: =IF(E24="","",ROUND(E24*F24,0)) -> 0
B25: 203-04-3 | C25: 填方 | G25: =IF(E25="","",ROUND(E25*F25,0))
B26: a | C26: 炮渣石 | D26: m³ | E26: 37.54 | G26: =IF(E26="","",ROUND(E26*F26,0)) -> 0
B27: b | C27: 土 (回填新土） | D27: m³ | E27: 108.86 | G27: =IF(E27="","",ROUND(E27*F27,0)) -> 0
B28: c | C28: 人工碎石回填 | D28: m³ | E28: 1 | G28: =IF(E28="","",ROUND(E28*F28,0)) -> 0
B29: 203-04-5 | C29: 土工布 | D29: ㎡ | E29: 80.14 | G29: =IF(E29="","",ROUND(E29*F29,0)) -> 0
B30: 203-04-6 | C30: 注浆（路基补强） | G30: =IF(E30="","",ROUND(E30*F30,0))
B31: b | C31: 注浆（路基补强） | D31: m³ | E31: 1 | G31: =IF(E31="","",ROUND(E31*F31,0)) -> 0
B32: c | C32: 注浆加固（带钢管） | D32: m³ | E32: 797.14 | G32: =IF(E32="","",ROUND(E32*F32,0)) -> 0
B33: 203-04-11 | C33: 土工格栅5050 | D33: ㎡ | E33: 186.86 | G33: =IF(E33="","",ROUND(E33*F33,0)) -> 0
B34: 204-02-1 | C34: 现浇砼构造物 | G34: =IF(E34="","",ROUND(E34*F34,0))
B35: a | C35: 现浇混凝土构造物（C15） | D35: m³ | E35: 1 | G35: =IF(E35="","",ROUND(E35*F35,0)) -> 0
B36: b | C36: 现浇混凝土构造物（C20） | D36: m³ | E36: 1 | G36: =IF(E36="","",ROUND(E36*F36,0)) -> 0
B37: c | C37: 现浇混凝土构造物（C25） | D37: m³ | E37: 29.37 | G37: =IF(E37="","",ROUND(E37*F37,0)) -> 0
B38: d | C38: 现浇混凝土构造物（C30） | D38: m³ | E38: 18.72 | G38: =IF(E38="","",ROUND(E38*F38,0)) -> 0
B39: e | C39: 光圆钢筋（HPB300） | D39: kg | E39: 25.71 | G39: =IF(E39="","",ROUND(E39*F39,0)) -> 0
B40: f | C40: 带肋钢筋（螺纹钢筋） | D40: kg | E40: 151.71 | G40: =IF(E40="","",ROUND(E40*F40,0)) -> 0
B41: 204-02-2 | C41: 预制安装沟盖板 | G41: =IF(E41="","",ROUND(E41*F41,0))
B42: a | C42: 预制安装沟盖板（100×100×20） | D42: m | E42: 6.43 | G42: =IF(E42="","",ROUND(E42*F42,0)) -> 0
B43: 204-02-4 | C43: 预制安装步道砖（花岗岩30×60×5cm） | D43: ㎡ | E43: 1 | G43: =IF(E43="","",ROUND(E43*F43,0)) -> 0
B44: 204-02-5 | C44: 预制安装盲道砖 | G44: =IF(E44="","",ROUND(E44*F44,0))
B45: a | C45: 预制安装盲道砖（250×250×50） | D45: ㎡ | E45: 1 | G45: =IF(E45="","",ROUND(E45*F45,0)) -> 0
B46: 204-02-6 | C46: 预制安装步道砖（混凝土防滑透气透水） | D46: ㎡ | E46: 165.86 | G46: =IF(E46="","",ROUND(E46*F46,0)) -> 0
B47: 204-02-7 | C47: 预制安装草坪砖 | G47: =IF(E47="","",ROUND(E47*F47,0))
B48: a | C48: 预制安装草坪砖 | D48: ㎡ | E48: 1 | G48: =IF(E48="","",ROUND(E48*F48,0)) -> 0
B49: 204-02-8 | C49: 预制安装钢筋砼圆管 | G49: =IF(E49="","",ROUND(E49*F49,0))
B50: a | C50: 预制安装D300钢筋混凝土承插口管 | D50: m | E50: 80.14 | G50: =IF(E50="","",ROUND(E50*F50,0)) -> 0
B51: b | C51: 预制安装D500钢筋混凝土承插口管 | D51: m | E51: 22.71 | G51: =IF(E51="","",ROUND(E51*F51,0)) -> 0
B52: c | C52: 预制安装D600钢筋混凝土承插口管 | D52: m | E52: 1 | G52: =IF(E52="","",ROUND(E52*F52,0)) -> 0
B53: d | C53: 预制安装D800钢筋混凝土承插口管 | D53: m | E53: 12.86 | G53: =IF(E53="","",ROUND(E53*F53,0)) -> 0
B54: f | C54: 预制安装D1200钢筋混凝土承插口管 | D54: m | E54: 4.29 | G54: =IF(E54="","",ROUND(E54*F54,0)) -> 0
B55: g | C55: 预制安装D1000钢筋混凝土圆管 | D55: m | E55: 25.71 | G55: =IF(E55="","",ROUND(E55*F55,0)) -> 0
B56: 204-02-12 | C56: 双壁波纹管 | G56: =IF(E56="","",ROUND(E56*F56,0))
B57: a | C57: 安装D300双壁波纹管 | D57: m | E57: 15 | G57: =IF(E57="","",ROUND(E57*F57,0)) -> 0
B58: b | C58: 双壁波纹管 DN800 | D58: m | E58: 1 | G58: =IF(E58="","",ROUND(E58*F58,0)) -> 0
B59: c | C59: 双壁波纹管 DN1200 | D59: m | E59: 1 | G59: =IF(E59="","",ROUND(E59*F59,0)) -> 0
B60: d | C60: 新建双壁波纹管DN800（含包封混凝土） | D60: m | E60: 23.57 | G60: =IF(E60="","",ROUND(E60*F60,0)) -> 0
B61: 204-02-13 | C61: 塑料管 | G61: =IF(E61="","",ROUND(E61*F61,0))
B62: a | C62: 更换PE25管 | D62: m | E62: 1 | G62: =IF(E62="","",ROUND(E62*F62,0)) -> 0
B63: 204-03-1 | C63: 干砌 | G63: =IF(E63="","",ROUND(E63*F63,0))
B64: a | C64: 片石 | D64: m³ | E64: 1 | G64: =IF(E64="","",ROUND(E64*F64,0)) -> 0
B65: 204-03-2 | C65: 更换边缘石 | G65: =IF(E65="","",ROUND(E65*F65,0))
B66: a | C66: 乙1路缘石120×300×495 | D66: m | E66: 49.29 | G66: =IF(E66="","",ROUND(E66*F66,0)) -> 0
B67: b | C67: 乙2路缘石80/100×300×495 | D67: m | E67: 19.29 | G67: =IF(E67="","",ROUND(E67*F67,0)) -> 0
B68: c | C68: 乙3道牙100×200×495 | D68: m | E68: 134.57 | G68: =IF(E68="","",ROUND(E68*F68,0)) -> 0
B69: d | C69: 路缘石甲2 120/250×300×495 | D69: m | E69: 1 | G69: =IF(E69="","",ROUND(E69*F69,0)) -> 0
B70: e | C70: 路缘石甲3 120/250×250×495 | D70: m | E70: 1 | G70: =IF(E70="","",ROUND(E70*F70,0)) -> 0
B71: f | C71: 路缘石甲1 120/250×350×495 | D71: m | E71: 1 | G71: =IF(E71="","",ROUND(E71*F71,0)) -> 0
B72: g | C72: 路缘石甲1 120/250×350×745 | D72: m | E72: 1 | G72: =IF(E72="","",ROUND(E72*F72,0)) -> 0
B73: h | C73: 花岗岩立缘石12×30×49.5cm | D73: m | E73: 1 | G73: =IF(E73="","",ROUND(E73*F73,0)) -> 0
B74: i | C74: 上坡角砖49.5×25×25 | D74: 块 | E74: 21 | G74: =IF(E74="","",ROUND(E74*F74,0)) -> 0
B75: 204-03-3 | C75: C30大方砖 | D75: ㎡ | E75: 1 | G75: =IF(E75="","",ROUND(E75*F75,0)) -> 0
B76: 204-04-1 | C76: 网格砖护坡 | D76: ㎡ | E76: 1 | G76: =IF(E76="","",ROUND(E76*F76,0)) -> 0
B77: 204-04-3 | C77: 勾缝（凸缝） | D77: m | E77: 1 | G77: =IF(E77="","",ROUND(E77*F77,0)) -> 0
... B81: 204-04-7 | C81: 六棱砖护坡 | D81: ㎡ | E81: 1 | G81: =IF(E81="","",ROUND(E81*F81,0)) -> 0
B82: 204-04-10 | C82: 急流槽 | G82: =IF(E82="","",ROUND(E82*F82,0))
B83: a | C83: 浆砌片石急流槽 | D83: m³ | E83: 1 | G83: =IF(E83="","",ROUND(E83*F83,0)) -> 0
B84: b | C84: 现浇混凝土急流槽 | D84: m³ | E84: 1 | G84: =IF(E84="","",ROUND(E84*F84,0)) -> 0
B85: c | C85: 预制混凝土预制块急流槽 | D85: m³ | E85: 1 | G85: =IF(E85="","",ROUND(E85*F85,0)) -> 0
B86: 204-04-11 | C86: 拆除旧圬工砌体 | D86: m³ | E86: 24.9 | G86: =IF(E86="","",ROUND(E86*F86,0)) -> 0
B87: 204-04-12 | C87: 机械拆除混凝土 | D87: m³ | E87: 1 | G87: =IF(E87="","",ROUND(E87*F87,0)) -> 0
B88: 204-04-13 | C88: 拆除钢筋混凝土 | D88: m³ | E88: 1 | G88: =IF(E88="","",ROUND(E88*F88,0)) -> 0
B89: 204-04-14 | C89: 植藤绿化护坡 | D89: m | E89: 1 | G89: =IF(E89="","",ROUND(E89*F89,0)) -> 0
B90: 204-04-15 | C90: 植生袋绿化护坡 | D90: ㎡ | E90: 1 | G90: =IF(E90="","",ROUND(E90*F90,0)) -> 0
B91: 204-04-16 | C91: 拱形骨架护坡（现浇C20砼） | D91: ㎡ | E91: 1 | G91: =IF(E91="","",ROUND(E91*F91,0)) -> 0
B92: 204-04-17 | C92: C30砼格梁护坡 | D92: m³ | E92: 1 | G92: =IF(E92="","",ROUND(E92*F92,0)) -> 0
B93: 204-04-18 | C93: 深层泄水孔 | D93: m | E93: 1 | G93: =IF(E93="","",ROUND(E93*F93,0)) -> 0
B94: 204-05-1 | C94: 浆砌块石 | D94: m³ | E94: 1 | G94: =IF(E94="","",ROUND(E94*F94,0)) -> 0
B95: 204-05-2 | C95: 浆砌片石 | G95: =IF(E95="","",ROUND(E95*F95,0))
B96: a | C96: 浆砌片石 边沟 | D96: m³ | E96: 13.36 | G96: =IF(E96="","",ROUND(E96*F96,0)) -> 0
B97: b | C97: C30现浇混凝土浅边沟 | D97: m³ | E97: 0.63 | G97: =IF(E97="","",ROUND(E97*F97,0)) -> 0
B98: c | C98: 浆砌片石 挡墙 | D98: m³ | E98: 315.62 | G98: =IF(E98="","",ROUND(E98*F98,0)) -> 0
B99: d | C99: C25片石混凝土挡墙 | D99: m³ | E99: 297.04 | G99: =IF(E99="","",ROUND(E99*F99,0)) -> 0
B100: e | C100: 浆砌片石 护坡 | D100: m³ | E100: 1 | G100: =IF(E100="","",ROUND(E100*F100,0)) -> 0
B101: 204-05-3 | C101: 环氧砂浆裂缝修补 | D101: 延米 | E101: 1 | G101: =IF(E101="","",ROUND(E101*F101,0)) -> 0
B102: 204-05-4 | C102: 沉降缝（沥青麻絮） | D102: ㎡ | E102: 1 | G102: =IF(E102="","",ROUND(E102*F102,0)) -> 0
B103: 204-06-1 | C103: 坡面柔性防护
B104: a | C104: 主动网维修 | D104: ㎡ | E104: 615.68 | G104: =IF(E104="","",ROUND(E104*F104,0)) -> 0
B105: c | C105: 被动防护网500KJ | D105: ㎡ | E105: 1 | G105: =IF(E105="","",ROUND(E105*F105,0)) -> 0
B106: d | C106: 被动防护网1000KJ | D106: ㎡ | E106: 1 | G106: =IF(E106="","",ROUND(E106*F106,0)) -> 0
B107: e | C107: 被动防护网1500KJ | D107: ㎡ | E107: 1 | G107: =IF(E107="","",ROUND(E107*F107,0)) -> 0
B108: f | C108: 被动防护网2000KJ | D108: ㎡ | E108: 142.29 | G108: =IF(E108="","",ROUND(E108*F108,0)) -> 0
...

Sheet 桥隧(一类)
A1: 工 程 量 清 单
A2: 工程名称：门头沟区普通公路日常养护作业第2标段
A3: 清单 桥涵维护（一类项目）
A4: 项目编号 | B4: 项目名称 | C4: 单位 | D4: 数量 | E4: 单价 | F4: 合价
A5: 502-15-1 | B5: 桥涵经常性检查 | C5: 月 | D5: 12 | E5: /
A6: 502-15-4 | B6: 清理泄水孔 | C6: 个 | D6: 154 | E6: /
A7: 502-15-71 | B7: 清理桥梁伸缩缝 | C7: 延米 | D7: 266 | E7: /
A8: 502-15-73 | B8: 一级水源地保护（桥梁污染物收集设施） | C8: 处 | D8: 2 | E8: /
A9: 502-15-74 | B9: 涵洞反光护栏清洁（每季度1次） | C9: 延米 | D9: 798.3 | E9: /
A10: 桥涵维护（一类项目）清单合计 人民币（元） | F10: =ROUND(SUM(F5:F9),0) -> 0

Sheet 桥隧(二类)
A1: 工 程 量 清 单
A2: 工程名称：门头沟区普通公路日常养护作业第2标段
A3: 清单 桥涵维护（二类项目）
A4: 项目类别 | B4: 项目编号 | C4: 项目名称 | D4: 单位 | E4: 数量 | F4: 单价 | G4: 合价
A5: 桥涵维护 | B5: 502-15-7 | C5: 混凝土栏杆粉刷 | D5: m | E5: 1351.91 | G5: =IF(E5="","",ROUND(E5*F5,0)) -> 0
B6: 502-15-8 | C6: 粉刷方钢栏杆 | D6: m | E6: 2386.34 | G6: =IF(E6="","",ROUND(E6*F6,0)) -> 0
B7: 502-15-9 | C7: 更换栏杆 | G7: =IF(E7="","",ROUND(E7*F7,0))
B8: a | C8: 混凝土栏杆（含扶手和立柱） | D8: m | E8: 1 | G8: =IF(E8="","",ROUND(E8*F8,0)) -> 0
B9: b | C9: 仿木栏杆 | D9: m | E9: 1 | G9: =IF(E9="","",ROUND(E9*F9,0)) -> 0
B10: c | C10: 大理石栏杆 | D10: m | E10: 1 | G10: =IF(E10="","",ROUND(E10*F10,0)) -> 0
B11: d | C11: B级 | D11: m | E11: 10.51 | G11: =IF(E11="","",ROUND(E11*F11,0)) -> 0
B12: 502-15-10 | C12: 镀锌方钢栏杆（壁厚4.5-5mm,立柱140mm，横梁110mm,横梁3根） | D12: m | E12: 292.25 | G12: =IF(E12="","",ROUND(E12*F12,0)) -> 0
B13: 502-15-11 | C13: 桥涵清淤 | G13: =IF(E13="","",ROUND(E13*F13,0))
B14: a | C14: 挖土方 | D14: m³ | E14: 71.49 | G14: =IF(E14="","",ROUND(E14*F14,0)) -> 0
B15: b | C15: 填方 | D15: m³ | E15: 1 | G15: =IF(E15="","",ROUND(E15*F15,0)) -> 0
B16: c | C16: 清理桥下及周边杂物 | D16: m³ | E16: 103.02 | G16: =IF(E16="","",ROUND(E16*F16,0)) -> 0
B17: 502-15-12 | C17: 浆砌片石（护坡及锥坡等） | G17: =IF(E17="","",ROUND(E17*F17,0))
B18: a | C18: 修复海曼（30cm厚） | D18: m³ | E18: 71.49 | G18: =IF(E18="","",ROUND(E18*F18,0)) -> 0
B19: b | C19: 修复检修梯道（浆砌块石） | D19: m³ | E19: 21.03 | G19: =IF(E19="","",ROUND(E19*F19,0)) -> 0
B20: c | C20: 修复检修梯道（长型路缘石10×30×50） | D20: 块 | E20: 1 | G20: =IF(E20="","",ROUND(E20*F20,0)) -> 0
B21: d | C21: 河道铅丝石笼护砌 | D21: m³ | E21: 1 | G21: =IF(E21="","",ROUND(E21*F21,0)) -> 0
B22: 502-15-14 | C22: 桥面铺装钢筋砼 | D22: m³ | E22: 1 | G22: =IF(E22="","",ROUND(E22*F22,0)) -> 0
B23: 502-15-69 | C23: 浇筑C40快硬防水混凝土 | D23: m³ | E23: 1 | G23: =IF(E23="","",ROUND(E23*F23,0)) -> 0
B24: 502-15-15 | C24: 凿除旧混凝土桥面（含运弃） | D24: m³ | E24: 1 | G24: =IF(E24="","",ROUND(E24*F24,0)) -> 0
B25: 502-15-16 | C25: 桥面防水 | D25: ㎡ | E25: 1 | G25: =IF(E25="","",ROUND(E25*F25,0)) -> 0
B26: 502-15-17 | C26: 桥梁标注 | D26: 个 | E26: 1 | G26: =IF(E26="","",ROUND(E26*F26,0)) -> 0
B27: 502-15-18 | C27: 更换桥名牌 | D27: 块 | E27: 1 | G27: =IF(E27="","",ROUND(E27*F27,0)) -> 0
B28: 502-15-19 | C28: 油饰桥名牌 | D28: 块 | E28: 139 | G28: =IF(E28="","",ROUND(E28*F28,0)) -> 0
B29: 502-15-20 | C29: 砼底座加固 | D29: 个 | E29: 1 | G29: =IF(E29="","",ROUND(E29*F29,0)) -> 0
... B36: 502-15-27 | C36: 步道缘石更换 | D36: 块 | E36: 1 | G36: =IF(E36="","",ROUND(E36*F36,0)) -> 0
B37: 502-15-28 | C37: 步道砖更换 | G37: =IF(E37="","",ROUND(E37*F37,0))
B38: a | C38: 混凝土步道砖 | D38: ㎡ | E38: 1 | G38: =IF(E38="","",ROUND(E38*F38,0)) -> 0
B39: b | C39: 大理石步道砖 | D39: ㎡ | E39: 1 | G39: =IF(E39="","",ROUND(E39*F39,0)) -> 0
B40: c | C40: 砌筑方砖检修步道 | D40: m³ | E40: 1 | G40: =IF(E40="","",ROUND(E40*F40,0)) -> 0
B41: 502-15-29 | C41: 步道缘石大理石12×30×99.5 | D41: m | E41: 1 | G41: =IF(E41="","",ROUND(E41*F41,0)) -> 0
B42: 502-15-30 | C42: 钢筋砼防撞墩 | D42: m³ | E42: 1 | G42: =IF(E42="","",ROUND(E42*F42,0)) -> 0
B43: 502-15-33 | C43: 桥梁混凝土修补 | D43: m³ | E43: 1 | G43: =IF(E43="","",ROUND(E43*F43,0)) -> 0
B44: 502-15-34 | C44: 混凝土缘石 | D44: m³ | E44: 1 | G44: =IF(E44="","",ROUND(E44*F44,0)) -> 0
B45: 502-15-35 | C45: 伸缩缝修复 | G45: =IF(E45="","",ROUND(E45*F45,0))
B46: a | C46: 橡胶条伸缩缝 | D46: m | E46: 1 | G46: =IF(E46="","",ROUND(E46*F46,0)) -> 0
B47: 502-15-118 | C47: 环氧砂浆修补 | D47: m³ | E47: 3.15 | G47: =IF(E47="","",ROUND(E47*F47,0)) -> 0
B48: 502-15-119 | C48: 钢筋 | G48: =IF(E48="","",ROUND(E48*F48,0))
B49: a | C49: 附属结构钢筋 | G49: =IF(E49="","",ROUND(E49*F49,0))
B50: a-1 | C50: HPB300 | D50: kg | E50: 2.44 | G50: =IF(E50="","",ROUND(E50*F50,0)) -> 0
B51: a-2 | C51: HRB400 | D51: kg | E51: 1 | G51: =IF(E51="","",ROUND(E51*F51,0)) -> 0
B52: 502-15-120 | C52: 钢筋混凝土工程 | G52: =IF(E52="","",ROUND(E52*F52,0))
B53: a | C53: 现浇混凝土附属结构 | G53: =IF(E53="","",ROUND(E53*F53,0))
B54: a-1 | C54: C30混凝土搭板 | D54: m³ | E54: 1 | G54: =IF(E54="","",ROUND(E54*F54,0)) -> 0
B55: a-2 | C55: C30混凝土地袱 | D55: m³ | E55: 1 | G55: =IF(E55="","",ROUND(E55*F55,0)) -> 0
B56: a-3 | C56: C20混凝土防撞墩 | D56: m³ | E56: 1 | G56: =IF(E56="","",ROUND(E56*F56,0)) -> 0
B57: b | C57: 预制混凝土附属结构 | G57: =IF(E57="","",ROUND(E57*F57,0))
B58: b-1 | C58: 桥梁外缘C30混凝土挂块修复（每块长0.5m） | D58: 块 | E58: 1 | G58: =IF(E58="","",ROUND(E58*F58,0)) -> 0
B59: b-2 | C59: 步道缘石更换 | D59: 块 | E59: 1 | G59: =IF(E59="","",ROUND(E59*F59,0)) -> 0
B60: c | C60: 现浇混凝土上部结构 | G60: =IF(E60="","",ROUND(E60*F60,0))
B61: c-1 | C61: C40预应力钢筋混凝土普通梁 | D61: m³ | E61: 1 | G61: =IF(E61="","",ROUND(E61*F61,0)) -> 0
B62: c-2 | C62: C40预应力钢筋混凝土异形梁 | D62: m³ | E62: 1 | G62: =IF(E62="","",ROUND(E62*F62,0)) -> 0
B63: c-3 | C63: C40钢筋混凝土梁 | D63: m³ | E63: 1 | G63: =IF(E63="","",ROUND(E63*F63,0)) -> 0
B64: 502-15-121 | C64: 桥面铺装 | G64: =IF(E64="","",ROUND(E64*F64,0))
B65: a | C65: 沥青混凝土桥面铺装 | G65: =IF(E65="","",ROUND(E65*F65,0))
B66: a-1 | C66: 5cm厚 中粒式抗车辙沥青混凝土（KAC-16C） | D66: ㎡ | E66: 1 | G66: =IF(E66="","",ROUND(E66*F66,0)) -> 0
B67: a-2 | C67: 5cm厚 中粒式抗车辙沥青混凝土（KAC-13C） | D67: ㎡ | E67: 1 | G67: =IF(E67="","",ROUND(E67*F67,0)) -> 0
B68: a-3 | C68: 5cm厚 中粒式沥青混凝土（SMA-16C） | D68: ㎡ | E68: 1 | G68: =IF(E68="","",ROUND(E68*F68,0)) -> 0
B69: a-4 | C69: 5cm厚 中粒式沥青混凝土（SMA-13C） | D69: ㎡ | E69: 630.75 | G69: =IF(E69="","",ROUND(E69*F69,0)) -> 0
B70: a-5 | C70: 5cm厚 中粒式沥青混凝土（WAC-16C） | D70: ㎡ | E70: 1 | G70: =IF(E70="","",ROUND(E70*F70,0)) -> 0
B71: a-6 | C71: 5cm厚 中粒式沥青混凝土（WAC-13C） | D71: ㎡ | E71: 1 | G71: =IF(E71="","",ROUND(E71*F71,0)) -> 0
B72: a-7 | C72: 5cm厚 中粒式沥青混凝土（AC-16C） | D72: ㎡ | E72: 1 | G72: =IF(E72="","",ROUND(E72*F72,0)) -> 0
B73: a-8 | C73: 5cm厚 细粒式沥青混凝土（AC-13C） | D73: ㎡ | E73: 1 | G73: =IF(E73="","",ROUND(E73*F73,0)) -> 0
B74: a-9 | C74: 2cm厚 超薄磨耗层沥青面层（一体机摊铺高粘改性乳化沥青粘层） | D74: ㎡ | E74: 1 | G74: =IF(E74="","",ROUND(E74*F74,0)) -> 0
B75: a-10 | C75: 改性乳化沥青粘层 | D75: ㎡ | E75: 517.22 | G75: =IF(E75="","",ROUND(E75*F75,0)) -> 0
B76: b | C76: 水泥混凝土桥面铺装 | G76: =IF(E76="","",ROUND(E76*F76,0))
B77: b-2 | C77: 超早强快硬混凝土维修 | D77: m³ | E77: 1 | G77: =IF(E77="","",ROUND(E77*F77,0)) -> 0
B78: b-3 | C78: C30混凝土浇筑 | D78: m³ | E78: 1 | G78: =IF(E78="","",ROUND(E78*F78,0)) -> 0
B79: b-4 | C79: C40混凝土浇筑 | D79: m³ | E79: 1 | G79: =IF(E79="","",ROUND(E79*F79,0)) -> 0
B80: c | C80: 防水层 | G80: =IF(E80="","",ROUND(E80*F80,0))
B81: c-1 | C81: 聚合物改性沥青防水涂层 | D81: ㎡ | E81: 1051.25 | G81: =IF(E81="","",ROUND(E81*F81,0)) -> 0
B82: d | C82: 桥面排水 | G82: =IF(E82="","",ROUND(E82*F82,0))
B83: d-1 | C83: 桥梁排水管PVC D110及其组件更换 | D83: m | E83: 105.13 | G83: =IF(E83="","",ROUND(E83*F83,0)) -> 0
B84: d-2 | C84: 桥梁排水管PVC D200及其组件更换 | D84: m | E84: 105.13 | G84: =IF(E84="","",ROUND(E84*F84,0)) -> 0
B85: d-3 | C85: 桥梁排水管PVC D160及其组件更换 | D85: m | E85: 1 | G85: =IF(E85="","",ROUND(E85*F85,0)) -> 0
B86: d-4 | C86: 更换泄水孔水篦子 | D86: 个 | E86: 1 | G86: =IF(E86="","",ROUND(E86*F86,0)) -> 0
B87: d-5 | C87: 玻璃钢应急池（10立方米） | D87: 个 | E87: 1 | G87: =IF(E87="","",ROUND(E87*F87,0)) -> 0
B88: d-6 | C88: 玻璃钢应急池（5立方米） | D88: 个 | E88: 1 | G88: =IF(E88="","",ROUND(E88*F88,0)) -> 0
B89: d-7 | C89: HDPE管 | D89: m | E89: 1 | G89: =IF(E89="","",ROUND(E89*F89,0)) -> 0
B90: e | C90: 陶瓷颗粒彩色薄层防滑层（厚7mm）修复（含除锈、涂刷底漆、均厚5cm环氧砂浆找平层） | D90: ㎡ | E90: 210.25 | G90: =IF(E90="","",ROUND(E90*F90,0)) -> 0
B91: 502-15-122 | C91: 桥梁接缝和伸缩装置 | G91: =IF(E91="","",ROUND(E91*F91,0))
B92: a | C92: 桥梁钢制伸缩缝修复 | D92: m | E92: 1 | G92: =IF(E92="","",ROUND(E92*F92,0)) -> 0
B93: b | C93: 伸缩缝更换 | D93: m | E93: 1 | G93: =IF(E93="","",ROUND(E93*F93,0)) -> 0
B94: c | C94: 橡胶止水带更换 | D94: m | E94: 1 | G94: =IF(E94="","",ROUND(E94*F94,0)) -> 0
B95: d | C95: TST弹塑体伸缩缝 | D95: 延米 | E95: 105.13 | G95: =IF(E95="","",ROUND(E95*F95,0)) -> 0
B96: e | C96: 液体止水带更换 | D96: m | E96: 1 | G96: =IF(E96="","",ROUND(E96*F96,0)) -> 0
B97: g | C97: C50快硬钢纤维混凝土 | D97: m³ | E97: 1 | G97: =IF(E97="","",ROUND(E97*F97,0)) -> 0
B98: 502-15-123 | C98: 维修加固工程 | G98: =IF(E98="","",ROUND(E98*F98,0))
B99: a | C99: 拆除工程 | G99: =IF(E99="","",ROUND(E99*F99,0))
B100: a-1 | C100: 拆除人行天桥桥面铺装 | D100: ㎡ | E100: 100.92 | G100: =IF(E100="","",ROUND(E100*F100,0)) -> 0
B101: a-2 | C101: 凿除桥面破损混凝土铺装层（厚20cm） | D101: ㎡ | E101: 2.08 | G101: =IF(E101="","",ROUND(E101*F101,0)) -> 0
B102: a-3 | C102: 松散混凝土凿除（均厚3cm） | D102: ㎡ | E102: 1 | G102: =IF(E102="","",ROUND(E102*F102,0)) -> 0
B103: a-4 | C103: 拆除混凝土 | D103: m³ | E103: 1 | G103: =IF(E103="","",ROUND(E103*F103,0)) -> 0
B104: a-5 | C104: 拆除钢筋混凝土 | D104: m³ | E104: 1 | G104: =IF(E104="","",ROUND(E104*F104,0)) -> 0
B105: a-6 | C105: 拆除沥青混凝土 | D105: m³ | E105: 1 | G105: =IF(E105="","",ROUND(E105*F105,0)) -> 0
B106: a-7 | C106: 拆除波形梁钢板护栏 | D106: m | E106: 1 | G106: =IF(E106="","",ROUND(E106*F106,0)) -> 0
...

Sheet 道桥隧(专项)
A1: 工 程 量 清 单
A2: 工程名称：门头沟区普通公路日常养护作业第2标段
A3: 清单 道路、桥涵（专项工程）
A4: 项目编号 | B4: 项目名称 | C4: 单位 | D4: 数量 | E4: 单价 | F4: 合价
A5: 605-05-7 | B5: 安全生产费 | C5: 项 | D5: 1 | E5: 276755 | F5: =IF(D5="","",ROUND(D5*E5,0)) -> 276755
A6: 道路、桥涵（专项工程）清单合计 人民币（元） | F6: =ROUND(SUM(F5:F5),0) -> 276755

Sheet 汇总表(道桥隧)
A1: 工程量清单汇总表（道路、桥涵日常养护）
A2: 工程名称：门头沟区普通公路日常养护作业第2标段
A3: 序号 | B3: 项 目 名 称 | D3: 金额（元）
A4: 1 | B4: 一类项目 | C4: 道路日常养护 | D4: ='道路(一类汇总)'!E18 -> 0
C5: 桥涵维护 | D5: ='桥隧(一类)'!F10 -> 0
C6: 绿化日常管护 | D6: /
C7: 小计 | D7: =SUM(D4:D6) -> 0
A8: 2 | B8: 二类项目 | C8: 道路日常养护 | D8: ='道路(二类)'!G270 -> 0
C9: 桥涵维护 | D9: ='桥隧(二类)'!G182 -> 0
C10: 绿化日常管护 | D10: /
C11: 小计 | D11: =SUM(D8:D10) -> 0
A12: 3 | B12: 专项工程 | D12: ='道桥隧(专项)'!F6 -> 276755
A13: 4 | B13: 清单合计（1+2+3=4） | D13: =ROUND(SUM(D7,D11,D12),0) -> 276755
A14: 5 | B14: 已包含在清单合计中的材料、工程设备、专业工程暂估价合计
A15: 6 | B15: 已包含在清单合计中的安全生产费（投标控制价上限的1.5%） | D15: ='道桥隧(专项)'!F5 -> 276755
A16: 7 | B16: 投标报价（4=7） | D16: =ROUND(D13,0) -> 276755

Sheet 绿化(一类明细) 
A1: 工 程 量 清 单
A2: 工程名称：门头沟区普通公路日常养护作业第2标段
A3: 清单 绿化日常管护（一类明细）
A4: 项目编号 | B4: 项目名称 | C4: 单位 | D4: 数量 | E4: 单价 | F4: 合价
A5: 403-09-1 | B5: 绿化管护 | F5: /
A6: a | B6: 乔木 | C6: 株 | D6: 56364 | E6: /
A7: b | B7: 灌木 | C7: 株 | D7: 254162 | E7: /
A8: c | B8: 攀援植物 | C8: 株 | D8: 492013 | E8: /
A9: d | B9: 绿篱色带 | C9: ㎡ | D9: 4284.9 | E9: /
A10: e | B10: 草坪 | C10: ㎡ | D10: 13955 | E10: /
A11: f | B11: 地被植物 | C11: ㎡ | D11: 19337.8 | E11: /
A12: 605-05-11 | B12: 护林防火 | C12: 项 | D12: 1 | E12: /
A13: 605-05-13 | B13: 绿化应急保障 | C13: 项 | D13: 1 | E13: /
A14: 605-05-14 | B14: 危险病虫害及突发灾害 | C14: 项 | D14: 1 | E14: /

Sheet 绿化(一类汇总)
A1: 工 程 量 清 单
A2: 工程名称：门头沟区普通公路日常养护作业第2标段
A3: 清单 绿化日常管护（一类项目）
A4: 项目编号 | B4: 项目名称 | C4: 单位 | D4: 数量 | E4: 合价
A5: 1 | B5: 乔木管护 | C5: 总额 | D5: 1 | E5: ='绿化(一类明细) '!F6 -> 0
A6: 2 | B6: 灌木管护 | C6: 总额 | D6: 1 | E6: ='绿化(一类明细) '!F7 -> 0
A7: 3 | B7: 攀援植物管护 | C7: 总额 | D7: 1 | E7: ='绿化(一类明细) '!F8 -> 0
A8: 4 | B8: 绿篱色带管护 | C8: 总额 | D8: 1 | E8: ='绿化(一类明细) '!F9 -> 0
A9: 5 | B9: 草坪管护 | C9: 总额 | D9: 1 | E9: ='绿化(一类明细) '!F10 -> 0
A10: 6 | B10: 地被植物管护 | C10: 总额 | D10: 1 | E10: ='绿化(一类明细) '!F11 -> 0
A11: 7 | B11: 护林防火 | C11: 总额 | D11: 1 | E11: ='绿化(一类明细) '!F12 -> 0
A12: 8 | B12: 绿化应急保障 | C12: 总额 | D12: 1 | E12: ='绿化(一类明细) '!F13 -> 0
A13: 9 | B13: 危险病虫害及突发灾害 | C13: 总额 | D13: 1 | E13: ='绿化(一类明细) '!F14 -> 0
A14: 绿化日常管护（一类项目）清单合计 人民币（元） | E14: =ROUND(SUM(E5:E13),0) -> 0

Sheet 绿化(二类)
A1: 工 程 量 清 单
A2: 工程名称：门头沟区普通公路日常养护作业第2标段
A3: 清单 绿化日常管护（二类项目）
A4: 种类 | B4: 项目编号 | C4: 植物名称 | D4: 规格 | E4: 单位 | F4: 数量 | G4: 单价 | H4: 合价
A5: 乔木 | B5: 402-07-3 | C5: 垂柳 | H5: =IF(F5="","",ROUND(F5*G5,0))
B6: a | C6: 垂柳 | D6: 胸径8-10cm，土球苗木 | E6: 株 | F6: 1 | H6: =IF(F6="","",ROUND(F6*G6,0)) -> 0
B7: b | C7: 垂柳 | D7: 胸径10-12cm，土球苗木 | E7: 株 | F7: 1 | H7: =IF(F7="","",ROUND(F7*G7,0)) -> 0
B8: c | C8: 垂柳 | D8: 胸径12-15cm，土球苗木 | E8: 株 | F8: 1 | H8: =IF(F8="","",ROUND(F8*G8,0)) -> 0
B9: d | C9: 垂柳 | D9: 胸径15-20cm，土球苗木 | E9: 株 | F9: 1 | H9: =IF(F9="","",ROUND(F9*G9,0)) -> 0
B10: 402-07-9 | C10: 国槐 | H10: =IF(F10="","",ROUND(F10*G10,0))
B11: a | C11: 国槐 | D11: 胸径10-12cm，土球苗木 | E11: 株 | F11: 1 | H11: =IF(F11="","",ROUND(F11*G11,0)) -> 0
B12: b | C12: 国槐 | D12: 胸径12-15cm，土球苗木 | E12: 株 | F12: 1 | H12: =IF(F12="","",ROUND(F12*G12,0)) -> 0
B13: c | C13: 国槐 | D13: 胸径15-20cm，土球苗木 | E13: 株 | F13: 1 | H13: =IF(F13="","",ROUND(F13*G13,0)) -> 0
B14: d | C14: 国槐 | D14: 胸径8-10cm，土球苗木 | E14: 株 | F14: 1 | H14: =IF(F14="","",ROUND(F14*G14,0)) -> 0
B15: e | C15: 国槐 | D15: 胸径20-25cm，土球苗木 | E15: 株 | F15: 1 | H15: =IF(F15="","",ROUND(F15*G15,0)) -> 0
B16: f | C16: 国槐 | D16: 胸径25-30cm，土球苗木 | E16: 株 | F16: 1 | H16: =IF(F16="","",ROUND(F16*G16,0)) -> 0
B17: 402-07-13 | C17: 紫叶李 | H17: =IF(F17="","",ROUND(F17*G17,0))
B18: a | C18: 紫叶李 | D18: 地径4-6cm | E18: 株 | F18: 1 | H18: =IF(F18="","",ROUND(F18*G18,0)) -> 0
B19: b | C19: 紫叶李 | D19: 地径6-8cm | E19: 株 | F19: 1 | H19: =IF(F19="","",ROUND(F19*G19,0)) -> 0
B20: c | C20: 紫叶李 | D20: 地径8-10cm，土球苗木 | E20: 株 | F20: 1 | H20: =IF(F20="","",ROUND(F20*G20,0)) -> 0
B21: d | C21: 紫叶李 | D21: 地径10-12cm，土球苗木 | E21: 株 | F21: 1 | H21: =IF(F21="","",ROUND(F21*G21,0)) -> 0
B22: 402-07-20 | C22: 元宝枫 | H22: =IF(F22="","",ROUND(F22*G22,0))
B23: a | C23: 元宝枫 | D23: 胸径8-10cm，土球苗木 | E23: 株 | F23: 1 | H23: =IF(F23="","",ROUND(F23*G23,0)) -> 0
B24: b | C24: 元宝枫 | D24: 胸径10-12cm，土球苗木 | E24: 株 | F24: 1 | H24: =IF(F24="","",ROUND(F24*G24,0)) -> 0
B25: c | C25: 元宝枫 | D25: 胸径12-15cm，土球苗木 | E25: 株 | F25: 1 | H25: =IF(F25="","",ROUND(F25*G25,0)) -> 0
B26: d | C26: 元宝枫 | D26: 胸径15-20cm，土球苗木 | E26: 株 | F26: 1 | H26: =IF(F26="","",ROUND(F26*G26,0)) -> 0
B27: e | C27: 丛生元宝枫 | D27: 高度3m，3-5分支点，土球苗木 | E27: 株 | F27: 1 | H27: =IF(F27="","",ROUND(F27*G27,0)) -> 0
B28: f | C28: 丛生元宝枫 | D28: 高度4m，5-6分支点，土球苗木 | E28: 株 | F28: 1 | H28: =IF(F28="","",ROUND(F28*G28,0)) -> 0
B29: g | C29: 丛生元宝枫 | D29: 高度6m，6-7分支点，土球苗木 | E29: 株 | F29: 1 | H29: =IF(F29="","",ROUND(F29*G29,0)) -> 0
B30: 402-07-22 | C30: 油松 | H30: =IF(F30="","",ROUND(F30*G30,0))
B31: a | C31: 油松 | D31: 高3-3.5m | E31: 株 | F31: 1 | H31: =IF(F31="","",ROUND(F31*G31,0)) -> 0
B32: b | C32: 油松 | D32: 高3.5-4.0m，土球苗木 | E32: 株 | F32: 1 | H32: =IF(F32="","",ROUND(F32*G32,0)) -> 0
B33: c | C33: 油松 | D33: 高4.0-4.5m，土球苗木 | E33: 株 | F33: 1 | H33: =IF(F33="","",ROUND(F33*G33,0)) -> 0
B34: d | C34: 油松 | D34: 高4.5-5.0m，土球苗木 | E34: 株 | F34: 1 | H34: =IF(F34="","",ROUND(F34*G34,0)) -> 0
B35: e | C35: 油松 | D35: 高2.5-3m | E35: 株 | F35: 1 | H35: =IF(F35="","",ROUND(F35*G35,0)) -> 0
B36: 402-07-26 | C36: 桧柏 | H36: =IF(F36="","",ROUND(F36*G36,0))
B37: a | C37: 桧柏 | D37: 高3.0-3.5m，土球苗木 | E37: 株 | F37: 1 | H37: =IF(F37="","",ROUND(F37*G37,0)) -> 0
B38: b | C38: 桧柏 | D38: 高3.5-4.0m，土球苗木 | E38: 株 | F38: 1 | H38: =IF(F38="","",ROUND(F38*G38,0)) -> 0
B39: c | C39: 桧柏 | D39: 高2.5-3m，土球苗木 | E39: 株 | F39: 1 | H39: =IF(F39="","",ROUND(F39*G39,0)) -> 0
B40: d | C40: 桧柏 | D40: 高4.0-4.5m，土球苗木 | E40: 株 | F40: 1 | H40: =IF(F40="","",ROUND(F40*G40,0)) -> 0
B41: e | C41: 桧柏 | D41: 高4.5-5.0m，土球苗木 | E41: 株 | F41: 1 | H41: =IF(F41="","",ROUND(F41*G41,0)) -> 0
B42: 402-07-31 | C42: 金枝国槐 | H42: =IF(F42="","",ROUND(F42*G42,0))
B43: a | C43: 金枝国槐（大） | D43: 胸径8-10cm，土球苗木 | E43: 株 | F43: 1 | H43: =IF(F43="","",ROUND(F43*G43,0)) -> 0
B44: b | C44: 金枝国槐（大） | D44: 胸径10-12cm，土球苗木 | E44: 株 | F44: 210 | H44: =IF(F44="","",ROUND(F44*G44,0)) -> 0
B45: c | C45: 金枝国槐（大） | D45: 胸径4-5cm，土球苗木 | E45: 株 | F45: 1 | H45: =IF(F45="","",ROUND(F45*G45,0)) -> 0
B46: d | C46: 金枝国槐（大） | D46: 胸径6-8cm，土球苗木 | E46: 株 | F46: 1 | H46: =IF(F46="","",ROUND(F46*G46,0)) -> 0
B47: e | C47: 金枝国槐（大） | D47: 胸径12-15cm，土球苗木 | E47: 株 | F47: 1 | H47: =IF(F47="","",ROUND(F47*G47,0)) -> 0
B48: f | C48: 金枝国槐（小） | D48: 地径4-6cm，土球苗木 | E48: 株 | F48: 1 | H48: =IF(F48="","",ROUND(F48*G48,0)) -> 0
B49: g | C49: 金枝国槐（小） | D49: 地径6-8cm，土球苗木 | E49: 株 | F49: 1 | H49: =IF(F49="","",ROUND(F49*G49,0)) -> 0
B50: 402-07-34 | C50: 银杏 | H50: =IF(F50="","",ROUND(F50*G50,0))
B51: a | C51: 银杏 | D51: 胸径10-12cm，土球苗木 | E51: 株 | F51: 1 | H51: =IF(F51="","",ROUND(F51*G51,0)) -> 0
B52: b | C52: 银杏 | D52: 胸径12-15cm，土球苗木 | E52: 株 | F52: 1 | H52: =IF(F52="","",ROUND(F52*G52,0)) -> 0
B53: c | C53: 银杏 | D53: 胸径15-20cm，土球苗木 | E53: 株 | F53: 1 | H53: =IF(F53="","",ROUND(F53*G53,0)) -> 0
B54: d | C54: 银杏 | D54: 胸径20-25cm，土球苗木 | E54: 株 | F54: 1 | H54: =IF(F54="","",ROUND(F54*G54,0)) -> 0
B55: 402-07-40 | C55: 栾树 | H55: =IF(F55="","",ROUND(F55*G55,0))
B56: a | C56: 栾树 | D56: 胸径8-10cm，土球苗木 | E56: 株 | F56: 1 | H56: =IF(F56="","",ROUND(F56*G56,0)) -> 0
B57: b | C57: 栾树 | D57: 胸径10-12cm，土球苗木 | E57: 株 | F57: 1 | H57: =IF(F57="","",ROUND(F57*G57,0)) -> 0
B58: c | C58: 栾树 | D58: 胸径12-15cm，土球苗木 | E58: 株 | F58: 1 | H58: =IF(F58="","",ROUND(F58*G58,0)) -> 0
B59: d | C59: 栾树 | D59: 胸径15-20cm，土球苗木 | E59: 株 | F59: 1 | H59: =IF(F59="","",ROUND(F59*G59,0)) -> 0
B60: 402-07-47 | C60: 金叶槐 | H60: =IF(F60="","",ROUND(F60*G60,0))
B61: a | C61: 金叶国槐（大） | D61: 胸径8-10cm，土球苗木 | E61: 株 | F61: 1 | H61: =IF(F61="","",ROUND(F61*G61,0)) -> 0
B62: b | C62: 金叶国槐（大） | D62: 胸径10-12cm，土球苗木 | E62: 株 | F62: 1 | H62: =IF(F62="","",ROUND(F62*G62,0)) -> 0
B63: c | C63: 金叶国槐（大） | D63: 胸径6-8cm，土球苗木 | E63: 株 | F63: 1 | H63: =IF(F63="","",ROUND(F63*G63,0)) -> 0
B64: d | C64: 金叶国槐（大） | D64: 胸径12-15cm，土球苗木 | E64: 株 | F64: 1 | H64: =IF(F64="","",ROUND(F64*G64,0)) -> 0
B65: e | C65: 金叶国槐（小） | D65: 地径4-6cm，土球苗木 | E65: 株 | F65: 1 | H65: =IF(F65="","",ROUND(F65*G65,0)) -> 0
B66: f | C66: 金叶国槐（小） | D66: 地径6-8cm，土球苗木 | E66: 株 | F66: 1 | H66: =IF(F66="","",ROUND(F66*G66,0)) -> 0
B67: 402-07-49 | C67: 金叶榆 | H67: =IF(F67="","",ROUND(F67*G67,0))
B68: a | C68: 金叶榆 | D68: 胸径8-10cm，土球苗木 | E68: 株 | F68: 1 | H68: =IF(F68="","",ROUND(F68*G68,0)) -> 0
B69: b | C69: 金叶榆 | D69: 胸径10-12cm，土球苗木 | E69: 株 | F69: 1 | H69: =IF(F69="","",ROUND(F69*G69,0)) -> 0
B70: c | C70: 金叶榆 | D70: 胸径6-8cm，土球苗木 | E70: 株 | F70: 1 | H70: =IF(F70="","",ROUND(F70*G70,0)) -> 0
B71: 402-07-52 | C71: 西府海棠 | H71: =IF(F71="","",ROUND(F71*G71,0))
B72: a | C72: 西府海棠 | D72: 地径4-6cm，土球苗木 | E72: 株 | F72: 1 | H72: =IF(F72="","",ROUND(F72*G72,0)) -> 0
B73: b | C73: 西府海棠 | D73: 地径6-8cm，土球苗木 | E73: 株 | F73: 1 | H73: =IF(F73="","",ROUND(F73*G73,0)) -> 0
B74: c | C74: 西府海棠 | D74: 地径8-10cm，土球苗木 | E74: 株 | F74: 1 | H74: =IF(F74="","",ROUND(F74*G74,0)) -> 0
B75: d | C75: 西府海棠 | D75: 地径10-12cm，土球苗木 | E75: 株 | F75: 1 | H75: =IF(F75="","",ROUND(F75*G75,0)) -> 0
B76: 402-07-202 | C76: 洋槐 | H76: =IF(F76="","",ROUND(F76*G76,0))
B77: a | C77: 洋槐 | D77: 胸径8-10cm，土球苗木 | E77: 株 | F77: 1 | H77: =IF(F77="","",ROUND(F77*G77,0)) -> 0
B78: b | C78: 洋槐 | D78: 胸径10-12cm，土球苗木 | E78: 株 | F78: 1 | H78: =IF(F78="","",ROUND(F78*G78,0)) -> 0
B79: c | C79: 洋槐 | D79: 胸径12-15cm，土球苗木 | E79: 株 | F79: 1 | H79: =IF(F79="","",ROUND(F79*G79,0)) -> 0
B80: d | C80: 洋槐 | D80: 胸径15-20cm，土球苗木 | E80: 株 | F80: 1 | H80: =IF(F80="","",ROUND(F80*G80,0)) -> 0
B81: 402-07-203 | C81: 玉兰 | H81: =IF(F81="","",ROUND(F81*G81,0))
B82: a | C82: 玉兰 | D82: 地径10-12cm，土球苗木 | E82: 株 | F82: 1 | H82: =IF(F82="","",ROUND(F82*G82,0)) -> 0
B83: b | C83: 玉兰 | D83: 地径12-15cm，土球苗木 | E83: 株 | F83: 1 | H83: =IF(F83="","",ROUND(F83*G83,0)) -> 0
B84: c | C84: 玉兰 | D84: 地径8-10cm，土球苗木 | E84: 株 | F84: 1 | H84: =IF(F84="","",ROUND(F84*G84,0)) -> 0
B85: d | C85: 玉兰 | D85: 地径15-18cm，土球苗木 | E85: 株 | F85: 1 | H85: =IF(F85="","",ROUND(F85*G85,0)) -> 0
B86: 402-07-204 | C86: 侧柏 | H86: =IF(F86="","",ROUND(F86*G86,0))
B87: a | C87: 侧柏 | D87: 高3.0-3.5m，土球苗木 | E87: 株 | F87: 1 | H87: =IF(F87="","",ROUND(F87*G87,0)) -> 0
B88: b | C88: 侧柏 | D88: 高3.5-4.0m，土球苗木 | E88: 株 | F88: 1 | H88: =IF(F88="","",ROUND(F88*G88,0)) -> 0
B89: c | C89: 侧柏 | D89: 高2.5-3.0m，土球苗木 | E89: 株 | F89: 1 | H89: =IF(F89="","",ROUND(F89*G89,0)) -> 0
B90: d | C90: 侧柏 | D90: 高4.0-4.5m，土球苗木 | E90: 株 | F90: 1 | H90: =IF(F90="","",ROUND(F90*G90,0)) -> 0
B91: e | C91: 侧柏 | D91: 高4.5-5.0m，土球苗木 | E91: 株 | F91: 1 | H91: =IF(F91="","",ROUND(F91*G91,0)) -> 0
B92: 402-07-205 | C92: 白皮松 | H92: =IF(F92="","",ROUND(F92*G92,0))
B93: a | C93: 白皮松 | D93: 高3.0-3.5m，土球苗木 | E93: 株 | F93: 1 | H93: =IF(F93="","",ROUND(F93*G93,0)) -> 0
B94: b | C94: 白皮松 | D94: 高3.5-4.0m，土球苗木 | E94: 株 | F94: 1 | H94: =IF(F94="","",ROUND(F94*G94,0)) -> 0
B95: c | C95: 白皮松 | D95: 高4.0-4.5m，土球苗木 | E95: 株 | F95: 1 | H95: =IF(F95="","",ROUND(F95*G95,0)) -> 0
B96: d | C96: 白皮松 | D96: 高4.5-5m，土球苗木 | E96: 株 | F96: 1 | H96: =IF(F96="","",ROUND(F96*G96,0)) -> 0
B97: e | C97: 白皮松 | D97: 高5-5.5m，土球苗木 | E97: 株 | F97: 1 | H97: =IF(F97="","",ROUND(F97*G97,0)) -> 0
B98: 402-07-240 | C98: 美国红枫 | H98: =IF(F98="","",ROUND(F98*G98,0))
B99: a | C99: 美国红枫 | D99: 地径6-8cm，土球苗木 | E99: 株 | F99: 1 | H99: =IF(F99="","",ROUND(F99*G99,0)) -> 0
B100: b | C100: 美国红枫 | D100: 地径8-10cm，土球苗木 | E100: 株 | F100: 1 | H100: =IF(F100="","",ROUND(F100*G100,0)) -> 0
...

Sheet 绿化(专项)
A1: 工 程 量 清 单
A2: 工程名称：门头沟区普通公路日常养护作业第2标段
A3: 清单 绿化日常管护(专项工程)
A4: 项目编号 | B4: 项目名称 | C4: 单位 | D4: 数量 | E4: 单价 | F4: 合价
A5: 605-05-7 | B5: 安全生产费 | C5: 项 | D5: 1 | E5: 63592 | F5: =IF(D5="","",ROUND(D5*E5,0)) -> 63592
A6: 绿化日常管护（专项工程）清单合计 人民币（元） | F6: =ROUND(SUM(F5:F5),0) -> 63592

Sheet 汇总表(绿化)
A1: 工程量清单汇总表（绿化日常管护）
A2: 工程名称：门头沟区普通公路日常养护作业第2标段
A3: 序号 | B3: 项 目 名 称 | D3: 金额（元）
A4: 1 | B4: 一类项目 | C4: 道路日常养护 | D4: /
C5: 桥涵、隧道维护 | D5: /
C6: 绿化日常管护 | D6: ='绿化(一类汇总)'!E14 -> 0
C7: 小计 | D7: =SUM(D4:D6) -> 0
A8: 2 | B8: 二类项目 | C8: 道路日常养护 | D8: /
C9: 桥涵、隧道维护 | D9: /
C10: 绿化日常管护 | D10: ='绿化(二类)'!H335 -> 0
C11: 小计 | D11: =SUM(D8:D10) -> 0
A12: 3 | B12: 专项工程 | D12: ='绿化(专项)'!F6 -> 63592
A13: 4 | B13: 清单合计（1+2+3=4） | D13: =ROUND(SUM(D7,D11,D12,),0) -> 63592
A14: 5 | B14: 已包含在清单合计中的材料、工程设备、专业工程暂估价合计
A15: 6 | B15: 已包含在清单合计中的安全生产费（投标控制价上限的1.5%） | D15: ='绿化(专项)'!F5 -> 63592
A16: 7 | B16: 投标报价（4=7） | D16: =ROUND(D13,0) -> 63592

Sheet 交通(一类明细)
A1: 工 程 量 清 单
A2: 工程名称：门头沟区普通公路日常养护作业第2标段
A3: 清单 交通日常养护（一类项目）
A4: 项目编号 | B4: 项目名称 | C4: 单位 | D4: 数量 | E4: 单价 | F4: 合价
A5: 302-15-1 | B5: 悬臂标志清洗 | C5: ㎡ | D5: 1797.42 | F5: =IF(D5="","",ROUND(D5*E5,0)) -> 0
A6: 302-15-2 | B6: 单柱标志清洗 | C6: 块 | D6: 1229 | F6: =IF(D6="","",ROUND(D6*E6,0)) -> 0
A7: 302-15-3 | B7: 护栏清洗 | F7: /
A8: a | B8: 钢板护栏清洗 | C8: km | D8: 65.641 | F8: =IF(D8="","",ROUND(D8*E8,0)) -> 0
A9: c | B9: 缆索护栏清理 | C9: km | D9: 14.816 | F9: =IF(D9="","",ROUND(D9*E9,0)) -> 0
A10: 302-15-4 | B10: 小型标志立柱扶正 | C10: 项 | D10: 1 | F10: =IF(D10="","",ROUND(D10*E10,0)) -> 0
A11: 302-15-5 | B11: 小型标志牌面扶正 | C11: 项 | D11: 1 | F11: =IF(D11="","",ROUND(D11*E11,0)) -> 0
A12: 交通日常养护（一类项目）清单合计 人民币（元） | F12: =ROUND(SUM(F5:F11),0) -> 0

Sheet 交通(一类汇总)
A1: 工 程 量 清 单
A2: 工程名称：门头沟区普通公路日常养护作业第2标段
A3: 清单 交通日常养护（一类项目）
A4: 项目编号 | B4: 项目名称 | C4: 单位 | D4: 数量 | E4: 合价
A5: 1 | B5: 标志清洗 | C5: 总额 | D5: 1 | E5: ='交通(一类明细)'!F5+'交通(一类明细)'!F6 -> 0
A6: 2 | B6: 护栏清洗 | C6: 总额 | D6: 1 | E6: ='交通(一类明细)'!F8+'交通(一类明细)'!F9 -> 0
A7: 3 | B7: 小型标志扶正 | C7: 总额 | D7: 1 | E7: ='交通(一类明细)'!F10+'交通(一类明细)'!F11 -> 0
A8: 交通日常养护（一类项目）清单合计 人民币（元） | E8: =ROUND(SUM(E5:E7),0) -> 0

Sheet 交通(二类)
A1: 工 程 量 清 单
A2: 工程名称：门头沟区普通公路日常养护作业第2标段
A3: 清单 交通日常养护（二类项目）
A4: 项目类别 | B4: 项目编号 | C4: 项目名称/规格 | E4: 单位 | F4: 数量 | G4: 单价 | H4: 合价
A5: 交通工程-标志 | B5: 303-03-1 | C5: 单柱式D=1000 | G5: =IF(E5="","",ROUND(E5*F5,0)) | H5: =IF(F5="","",ROUND(F5*G5,0))
B6: a | C6: 单柱式D=1000（钢结构） | E6: 套 | F6: 1 | H6: =IF(F6="","",ROUND(F6*G6,0)) -> 0
B7: b | C7: 单柱式D=1000（玻璃钢） | E7: 套 | F7: 6 | H7: =IF(F7="","",ROUND(F7*G7,0)) -> 0
B8: 303-03-2 | C8: 单柱式D=800 | H8: =IF(F8="","",ROUND(F8*G8,0))
B9: a | C9: 单柱式D=800（钢结构） | E9: 套 | F9: 1 | H9: =IF(F9="","",ROUND(F9*G9,0)) -> 0
B10: b | C10: 单柱式D=800（玻璃钢） | E10: 套 | F10: 1 | H10: =IF(F10="","",ROUND(F10*G10,0)) -> 0
B11: 303-03-4 | C11: 单柱式800×800 | H11: =IF(F11="","",ROUND(F11*G11,0))
B12: a | C12: 单柱式800×800（钢结构） | E12: 套 | F12: 1 | H12: =IF(F12="","",ROUND(F12*G12,0)) -> 0
B13: b | C13: 单柱式800×800（玻璃钢） | E13: 套 | F13: 6 | H13: =IF(F13="","",ROUND(F13*G13,0)) -> 0
B14: 303-03-7 | C14: 单柱式八角形 | H14: =IF(F14="","",ROUND(F14*G14,0))
B15: a | C15: 单柱式八角形（钢结构） | E15: 套 | F15: 1 | H15: =IF(F15="","",ROUND(F15*G15,0)) -> 0
B16: b | C16: 单柱式八角形（玻璃钢） | E16: 套 | F16: 19 | H16: =IF(F16="","",ROUND(F16*G16,0)) -> 0
B17: 303-03-10 | C17: 双悬式2d=800 | E17: 套 | F17: 1 | H17: =IF(F17="","",ROUND(F17*G17,0)) -> 0
B18: 303-03-11 | C18: 双悬式2d=1000 | E18: 套 | F18: 1 | H18: =IF(F18="","",ROUND(F18*G18,0)) -> 0
B19: 303-03-17 | C19: 更换版面八角形 | H19: =IF(F19="","",ROUND(F19*G19,0))
B20: a | C20: 更换版面八角形（铝板） | E20: 面 | F20: 1 | H20: =IF(F20="","",ROUND(F20*G20,0)) -> 0
B21: b | C21: 更换版面八角形（玻璃钢） | E21: 面 | F21: 7 | H21: =IF(F21="","",ROUND(F21*G21,0)) -> 0
B22: 303-03-18 | C22: 更换版面a=900 | H22: =IF(F22="","",ROUND(F22*G22,0))
B23: a | C23: 更换版面a=900（铝板） | E23: 面 | F23: 2 | H23: =IF(F23="","",ROUND(F23*G23,0)) -> 0
B24: b | C24: 更换版面a=900（玻璃钢） | E24: 面 | F24: 9 | H24: =IF(F24="","",ROUND(F24*G24,0)) -> 0
B25: 303-03-19 | C25: 更换版面d=1000 | H25: =IF(F25="","",ROUND(F25*G25,0))
B26: a | C26: 更换版面d=1000（铝板） | E26: 面 | F26: 1 | H26: =IF(F26="","",ROUND(F26*G26,0)) -> 0
B27: b | C27: 更换版面d=1000（玻璃钢） | E27: 面 | F27: 13 | H27: =IF(F27="","",ROUND(F27*G27,0)) -> 0
B28: 303-03-20 | C28: 更换版面a=1100 | H28: =IF(F28="","",ROUND(F28*G28,0))
B29: a | C29: 更换版面a=1100（铝板） | E29: 面 | F29: 1 | H29: =IF(F29="","",ROUND(F29*G29,0)) -> 0
B30: b | C30: 更换版面a=1100（玻璃钢） | E30: 面 | F30: 1 | H30: =IF(F30="","",ROUND(F30*G30,0)) -> 0
B31: 303-03-21 | C31: 更换版面d=800 | H31: =IF(F31="","",ROUND(F31*G31,0))
B32: a | C32: 更换版面d=800（铝板） | E32: 面 | F32: 1 | H32: =IF(F32="","",ROUND(F32*G32,0)) -> 0
B33: b | C33: 更换版面d=800（玻璃钢） | E33: 面 | F33: 1 | H33: =IF(F33="","",ROUND(F33*G33,0)) -> 0
B34: 303-03-26 | C34: 更换80标志杆（玻璃钢） | E34: 根 | F34: 78 | H34: =IF(F34="","",ROUND(F34*G34,0)) -> 0
B35: 303-03-27 | C35: 更换89标志杆（玻璃钢） | E35: 根 | F35: 19 | H35: =IF(F35="","",ROUND(F35*G35,0)) -> 0
B36: 303-03-28 | C36: 更换60横单 | E36: m | F36: 1 | H36: =IF(F36="","",ROUND(F36*G36,0)) -> 0
B37: 303-03-29 | C37: 更换133横单 | E37: m | F37: 6.31 | H37: =IF(F37="","",ROUND(F37*G37,0)) -> 0
B38: 303-03-30 | C38: 更换159横单 | E38: m | F38: 1 | H38: =IF(F38="","",ROUND(F38*G38,0)) -> 0
B39: 303-03-31 | C39: 更换219横单 | E39: m | F39: 1 | H39: =IF(F39="","",ROUND(F39*G39,0)) -> 0
B40: 303-03-32 | C40: 单悬式5100×2600 | E40: 套 | F40: 1 | H40: =IF(F40="","",ROUND(F40*G40,0)) -> 0
B41: 303-03-33 | C41: 单悬式4500×2600 | E41: 套 | F41: 1 | H41: =IF(F41="","",ROUND(F41*G41,0)) -> 0
B42: 303-03-34 | C42: 单悬式4000×2400 | E42: 套 | F42: 1 | H42: =IF(F42="","",ROUND(F42*G42,0)) -> 0
B43: 303-03-35 | C43: 单悬式4000×2000 | E43: 套 | F43: 1 | H43: =IF(F43="","",ROUND(F43*G43,0)) -> 0
... B62: 303-03-75 | C62: 标志维护（牌面更换）400×600（玻璃钢） | E62: 面 | F62: 139 | H62: =IF(F62="","",ROUND(F62*G62,0)) -> 0
B63: 303-03-76 | C63: 标志维护（牌面更换）800×800 | H63: =IF(F63="","",ROUND(F63*G63,0))
B64: a | C64: 标志维护（牌面更换）800×800（铝板） | E64: 面 | F64: 1 | H64: =IF(F64="","",ROUND(F64*G64,0)) -> 0
B65: b | C65: 标志维护（牌面更换）800×800（玻璃钢） | E65: 面 | F65: 8 | H65: =IF(F65="","",ROUND(F65*G65,0)) -> 0
B66: c | C66: 标志维护（牌面更换）300*500 | E66: 面 | F66: 1 | H66: =IF(F66="","",ROUND(F66*G66,0)) -> 0
B67: 303-03-79 | C67: 标志维护（牌面更换）1200×600（玻璃钢） | E67: 面 | F67: 15 | H67: =IF(F67="","",ROUND(F67*G67,0)) -> 0
B68: 303-03-84 | C68: 标志维护（牌面重新贴膜） 5100×2600 | E68: 面 | F68: 1 | H68: =IF(F68="","",ROUND(F68*G68,0)) -> 0
B69: 303-03-85 | C69: 标志维护（牌面重新贴膜） 4500×2600 | E69: 面 | F69: 4 | H69: =IF(F69="","",ROUND(F69*G69,0)) -> 0
B70: 303-03-86 | C70: 标志维护（牌面重新贴膜） 4000×2000 | E70: 面 | F70: 1 | H70: =IF(F70="","",ROUND(F70*G70,0)) -> 0
B71: 303-03-87 | C71: 标志维护（牌面重新贴膜） 3000×1500 | E71: 面 | F71: 1 | H71: =IF(F71="","",ROUND(F71*G71,0)) -> 0
B72: 303-03-88 | C72: 标志维护（牌面重新贴膜） 2000×1000 | E72: 面 | F72: 1 | H72: =IF(F72="","",ROUND(F72*G72,0)) -> 0
B73: 303-03-89 | C73: 更换133标志杆 | E73: 套 | F73: 1 | H73: =IF(F73="","",ROUND(F73*G73,0)) -> 0
B74: 303-03-91 | C74: 更换245标志杆 | E74: 套 | F74: 1 | H74: =IF(F74="","",ROUND(F74*G74,0)) -> 0
B75: 303-03-92 | C75: 更换273标志杆 | E75: 套 | F75: 1 | H75: =IF(F75="","",ROUND(F75*G75,0)) -> 0
... B79: 303-03-96 | C79: 标志基础（含钢筋） | E79: m³ | F79: 6.31 | H79: =IF(F79="","",ROUND(F79*G79,0)) -> 0
B80: 303-03-98 | C80: 黄闪灯 | H80: =IF(F80="","",ROUND(F80*G80,0))
B81: a | C81: 更换黄闪灯 | E81: 个 | F81: 1 | H81: =IF(F81="","",ROUND(F81*G81,0)) -> 0
B82: b | C82: 新建单悬式黄闪灯 | E82: 套 | F82: 1 | H82: =IF(F82="","",ROUND(F82*G82,0)) -> 0
B83: c | C83: 附着式太阳能黄闪灯 | E83: 套 | F83: 1 | H83: =IF(F83="","",ROUND(F83*G83,0)) -> 0
B84: 303-03-99 | C84: 贴膜 | H84: =IF(F84="","",ROUND(F84*G84,0))
B85: a | C85: 重新贴膜（高强级） | E85: ㎡ | F85: 1 | H85: =IF(F85="","",ROUND(F85*G85,0)) -> 0
B86: b | C86: 重新贴膜（工程级） | E86: ㎡ | F86: 1 | H86: =IF(F86="","",ROUND(F86*G86,0)) -> 0
B87: d | C87: 钢板护栏端头贴膜 | E87: 块 | F87: 1 | H87: =IF(F87="","",ROUND(F87*G87,0)) -> 0
B88: f | C88: 钢板护栏端头（双波） | E88: 处 | F88: 1 | H88: =IF(F88="","",ROUND(F88*G88,0)) -> 0
B89: g | C89: 重新贴膜（超强级） | E89: ㎡ | F89: 176.61 | H89: =IF(F89="","",ROUND(F89*G89,0)) -> 0
B90: h | C90: 重新贴膜400×600（超强级） | E90: 面 | F90: 1 | H90: =IF(F90="","",ROUND(F90*G90,0)) -> 0
B91: i | C91: 重新贴膜600×1200（超强级） | E91: 面 | F91: 1 | H91: =IF(F91="","",ROUND(F91*G91,0)) -> 0
B92: 303-03-101 | C92: 单柱式标志维护（牌面更换） | E92: ㎡ | F92: 1 | H92: =IF(F92="","",ROUND(F92*G92,0)) -> 0
B93: 303-03-102 | C93: 标志维护（牌面更换）玻璃钢 | E93: ㎡ | F93: 6.31 | H93: =IF(F93="","",ROUND(F93*G93,0)) -> 0
B94: 303-03-103 | C94: 单柱式 a=1100 | H94: =IF(F94="","",ROUND(F94*G94,0))
B95: a | C95: 单柱式 a=1100（钢结构） | E95: 套 | F95: 1 | H95: =IF(F95="","",ROUND(F95*G95,0)) -> 0
B96: b | C96: 单柱式 a=1100（玻璃钢） | E96: 套 | F96: 1 | H96: =IF(F96="","",ROUND(F96*G96,0)) -> 0
B97: 303-03-104 | C97: 单柱式a=900 | H97: =IF(F97="","",ROUND(F97*G97,0))
B98: a | C98: 单柱式a=900（钢结构） | E98: 套 | F98: 1 | H98: =IF(F98="","",ROUND(F98*G98,0)) -> 0
B99: b | C99: 单柱式a=900（玻璃钢） | E99: 套 | F99: 38 | H99: =IF(F99="","",ROUND(F99*G99,0)) -> 0
B100: 303-03-105 | C100: 更换版面800×300（铝合金） | E100: 面 | F100: 1 | H100: =IF(F100="","",ROUND(F100*G100,0)) -> 0
B101: 303-03-106 | C101: 单柱式2（800×800）（玻璃钢） | E101: 套 | F101: 4 | H101: =IF(F101="","",ROUND(F101*G101,0)) -> 0
B102: 303-03-107 | C102: 单柱式600×800（铝合金） | E102: 套 | F102: 1 | H102: =IF(F102="","",ROUND(F102*G102,0)) -> 0
B103: 303-03-108 | C103: 更换273门架立柱、横梁 | E103: m | F103: 1 | H103: =IF(F103="","",ROUND(F103*G103,0)) -> 0
B104: 303-03-109 | C104: 单柱式2×（400×600）（89标志杆，铝合金版面） | E104: 套 | F104: 63 | H104: =IF(F104="","",ROUND(F104*G104,0)) -> 0
B105: 303-03-110 | C105: 单柱式1200×400（玻璃钢箱体） | E105: 套 | F105: 7 | H105: =IF(F105="","",ROUND(F105*G105,0)) -> 0
B106: 303-03-111 | C106: 凿除钢筋混凝土基础 | E106: m³ | F106: 1 | H106: =IF(F106="","",ROUND(F106*G106,0)) -> 0
B107: 303-03-112 | C107: 标志杆立柱贴膜 | E107: m² | F107: 1 | H107: =IF(F107="","",ROUND(F107*G107,0)) -> 0
B108: 303-03-113 | C108: 标志杆立柱贴膜 | E108: 处 | F108: 1 | H108: =IF(F108="","",ROUND(F108*G108,0)) -> 0
B109: 303-03-114 | C109: 自发光单柱标志 D800mm | E109: 套 | F109: 1 | H109: =IF(F109="","",ROUND(F109*G109,0)) -> 0
... B113: 303-03-118 | C113: 更换自发光版面 4000*2400mm | E113: 套 | F113: 1 | H113: =IF(F113="","",ROUND(F113*G113,0)) -> 0
A114: 交通工程-标线 | B114: 303-04-1 | C114: 除线 | E114: ㎡ | F114: 13876.5 | H114: =IF(F114="","",ROUND(F114*G114,0)) -> 0
B115: 303-04-4 | C115: 热熔标线 | E115: ㎡ | F115: 26197.15 | H115: =IF(F115="","",ROUND(F115*G115,0)) -> 0
B116: 303-04-5 | C116: 冷漆标线 | E116: ㎡ | F116: 441.53 | H116: =IF(F116="","",ROUND(F116*G116,0)) -> 0
B117: 303-04-6 | C117: 振荡标线 | E117: ㎡ | F117: 63.08 | H117: =IF(F117="","",ROUND(F117*G117,0)) -> 0
B118: 303-04-7 | C118: 薄层铺装 | E118: ㎡ | F118: 334.3 | H118: =IF(F118="","",ROUND(F118*G118,0)) -> 0
B119: 303-04-10 | C119: 双组份标线 | H119: =IF(F119="","",ROUND(F119*G119,0))
B120: a | C120: 喷涂双组份标线 | E120: ㎡ | F120: 1 | H120: =IF(F120="","",ROUND(F120*G120,0)) -> 0
B121: b | C121: 刮涂双组份标线 | E121: ㎡ | F121: 1 | H121: =IF(F121="","",ROUND(F121*G121,0)) -> 0
B122: 303-04-12 | C122: 反光道钉（铸铁） | E122: 个 | F122: 1 | H122: =IF(F122="","",ROUND(F122*G122,0)) -> 0
B123: 303-04-13 | C123: 反光道钉（塑料） | E123: 个 | F123: 1 | H123: =IF(F123="","",ROUND(F123*G123,0)) -> 0
B124: 303-04-15 | C124: 自行车图案（标线带） | E124: 个 | F124: 1 | H124: =IF(F124="","",ROUND(F124*G124,0)) -> 0
...

Sheet 交通(专项)
A1: 工 程 量 清 单
A2: 工程名称：门头沟区普通公路日常养护作业第2标段
A3: 清单 交通日常养护(专项工程)
A4: 项目编号 | B4: 项目名称 | C4: 单位 | D4: 数量 | E4: 单价 | F4: 合价
A5: 605-05-7 | B5: 安全生产费 | C5: 项 | D5: 1 | E5: 75967 | F5: =IF(D5="","",ROUND(D5*E5,0)) -> 75967
A6: 交通日常管护（专项工程）清单合计 人民币（元） | F6: =ROUND(SUM(F5:F5),0) -> 75967

Sheet 汇总表(交通)
A1: 工程量清单汇总表（交通日常养护）
A2: 工程名称：门头沟区普通公路日常养护作业第2标段
A3: 序号 | B3: 项 目 名 称 | D3: 金额（元）
A4: 1 | B4: 一类项目 | C4: 道路日常养护 | D4: /
C5: 桥涵、隧道维护 | D5: /
C6: 交通日常养护 | D6: ='交通(一类明细)'!F12 -> 0
C7: 小计 | D7: =SUM(D4:D6) -> 0
A8: 2 | B8: 二类项目 | C8: 道路日常养护 | D8: /
C9: 桥涵、隧道维护 | D9: /
C10: 交通日常养护 | D10: ='交通(二类)'!H210 -> 0
C11: 小计 | D11: =SUM(D8:D10) -> 0
A12: 3 | B12: 专项工程 | D12: ='交通(专项)'!F6 -> 75967
A13: 4 | B13: 清单合计（1+2+3=4） | D13: =ROUND(SUM(D7,D11,D12,),0) -> 75967
A14: 5 | B14: 已包含在清单合计中的材料、工程设备、专业工程暂估价合计
A15: 6 | B15: 已包含在清单合计中的安全生产费（投标控制价上限的1.5%） | D15: =D12 -> 75967
A16: 7 | B16: 投标报价（4=7） | D16: =ROUND(D13,0) -> 75967

Sheet 总报价表
A1: 投标报价汇总表
A2: 工程名称：门头沟区普通公路日常养护作业第2标段
A3: 序号 | B3: 项 目 名 称 | D3: 道路、桥涵日常养护 | E3: 绿化日常 管护 | F3: 交通日常 养护 | G3: 金额（元）
A4: 1 | B4: 一类项目 | C4: 道路日常养护 | D4: ='汇总表(道桥隧)'!D4 -> 0 | E4: / | F4: / | G4: =SUM(D4:F4) -> 0
C5: 桥涵、隧道维护 | D5: ='汇总表(道桥隧)'!D5 -> 0 | E5: / | F5: / | G5: =SUM(D5:F5) -> 0
C6: 绿化日常管护 | D6: / | E6: ='汇总表(绿化)'!D6 -> 0 | F6: / | G6: =SUM(D6:F6) -> 0
C7: 交通日常养护 | D7: / | E7: / | F7: ='汇总表(交通)'!D6 -> 0 | G7: =SUM(D7:F7) -> 0
C8: 小计 | D8: =SUM(D4:D7) -> 0 | E8: =SUM(E4:E7) -> 0 | F8: =SUM(F4:F7) -> 0 | G8: =SUM(D8:F8) -> 0
A9: 2 | B9: 二类项目 | C9: 道路日常养护 | D9: ='汇总表(道桥隧)'!D8 -> 0 | E9: / | F9: / | G9: =SUM(D9:F9) -> 0
C10: 桥涵、隧道维护 | D10: ='汇总表(道桥隧)'!D9 -> 0 | E10: / | F10: / | G10: =SUM(D10:F10) -> 0
C11: 绿化日常管护 | D11: / | E11: ='汇总表(绿化)'!D10 -> 0 | F11: / | G11: =SUM(D11:F11) -> 0
C12: 交通日常养护 | D12: / | E12: / | F12: ='汇总表(交通)'!D10 -> 0 | G12: =SUM(D12:F12) -> 0
C13: 小计 | D13: =SUM(D9:D12) -> 0 | E13: =SUM(E9:E12) -> 0 | F13: =SUM(F9:F12) -> 0 | G13: =SUM(D13:F13) -> 0
A14: 3 | B14: 专项工程 | D14: ='汇总表(道桥隧)'!D12 -> 276755 | E14: ='汇总表(绿化)'!D12 -> 63592 | F14: ='汇总表(交通)'!D12 -> 75967 | G14: =SUM(D14:F14) -> 416314
A15: 4 | B15: 清单合计（1+2+3=4） | D15: =ROUND(SUM(D8,D13,D14),0) -> 276755 | E15: =ROUND(SUM(E8,E13,E14),0) -> 63592 | F15: =ROUND(SUM(F8,F13,F14),0) -> 75967 | G15: =SUM(D15:F15) -> 416314
A16: 5 | B16: 已包含在清单合计中的材料、工程设备、专业工程暂估价合计 | G16: =SUM(D16:F16) -> 0
A17: 6 | B17: 已包含在清单合计中的安全生产费（投标控制价上限的1.5%） | D17: ='汇总表(道桥隧)'!D15 -> 276755 | E17: ='汇总表(绿化)'!D15 -> 63592 | F17: ='汇总表(交通)'!D15 -> 75967 | G17: =SUM(D17:F17) -> 416314
A18: 7 | B18: 投标报价（4=7） | D18: =ROUND(D15,0) -> 276755 | E18: =ROUND(E15,0) -> 63592 | F18: =ROUND(F15,0) -> 75967 | G18: =SUM(D18:F18) -> 416314
